BEGIN:VCALENDAR
VERSION:2.0
PRODID:icalendar-ruby
CALSCALE:GREGORIAN
BEGIN:VEVENT
DTSTAMP:20260423T083000Z
UID:57807f4e-436e-4cd5-bab7-d589f334e57f
DTSTART;VALUE=DATE:20191120
DESCRIPTION:Property ID# 464449\, Locatoin: Baycourt\, 38 Durham Street\, T
 auranga\, Time: 2:00PM
SUMMARY:Auction for 
END:VEVENT
END:VCALENDAR
