BEGIN:VCALENDAR
VERSION:2.0
PRODID:icalendar-ruby
CALSCALE:GREGORIAN
BEGIN:VEVENT
DTSTAMP:20260424T165105Z
UID:92b467e9-ca95-472a-8e7d-f5592afeb7e1
DTSTART;VALUE=DATE:20200624
DESCRIPTION:Property ID# 476404\, Locatoin: 1239 Amohia Street\, Rotorua (u
 nless sold prior)\, Time: 4:00PM
SUMMARY:Auction for 
END:VEVENT
END:VCALENDAR
