BEGIN:VCALENDAR
VERSION:2.0
PRODID:icalendar-ruby
CALSCALE:GREGORIAN
BEGIN:VEVENT
DTSTAMP:20260425T112421Z
UID:b5b9e9f8-fb2b-43b2-b621-fe536172a8b7
DTSTART;VALUE=DATE:20201104
DESCRIPTION:Property ID# 492218\, Locatoin: Baycourt\, 38 Durham Street\, T
 auranga\, Time: 2:00PM
SUMMARY:Auction for 
END:VEVENT
END:VCALENDAR
