BEGIN:VCALENDAR
VERSION:2.0
PRODID:icalendar-ruby
CALSCALE:GREGORIAN
BEGIN:VEVENT
DTSTAMP:20260420T102002Z
UID:2f3f6588-644d-4f9a-96de-fccdab6cc9c5
DTSTART;VALUE=DATE:20201105
DESCRIPTION:Property ID# 493459\, Locatoin: In Rooms unless sold prior\, Ti
 me: 1:00PM
SUMMARY:Auction for 
END:VEVENT
END:VCALENDAR
