BEGIN:VCALENDAR
VERSION:2.0
PRODID:icalendar-ruby
CALSCALE:GREGORIAN
BEGIN:VEVENT
DTSTAMP:20260425T184600Z
UID:d217be52-3f92-494e-8c7b-4d31acbd5428
DTSTART;VALUE=DATE:20210212
DESCRIPTION:Property ID# 498786\, Time: 5:00PM
SUMMARY:Auction for 
END:VEVENT
END:VCALENDAR
