BEGIN:VCALENDAR
VERSION:2.0
PRODID:icalendar-ruby
CALSCALE:GREGORIAN
BEGIN:VEVENT
DTSTAMP:20260425T183435Z
UID:e0e860f8-e96e-4d1a-bf6a-2760b24e05a1
DTSTART;VALUE=DATE:20210415
DESCRIPTION:Property ID# 504614\, Time: 4:00PM
SUMMARY:Auction for 
END:VEVENT
END:VCALENDAR
