BEGIN:VCALENDAR
VERSION:2.0
PRODID:icalendar-ruby
CALSCALE:GREGORIAN
BEGIN:VEVENT
DTSTAMP:20260425T214506Z
UID:1035f5c9-fe57-4c79-af44-d8d18cd7a708
DTSTART;VALUE=DATE:20210811
DESCRIPTION:Property ID# 514216\, Locatoin: Tremains office\, Cameron Rd\, 
 Tauranga (unless sold prior)\, Time: 2:00PM
SUMMARY:Auction for 
END:VEVENT
END:VCALENDAR
