BEGIN:VCALENDAR
VERSION:2.0
PRODID:icalendar-ruby
CALSCALE:GREGORIAN
BEGIN:VEVENT
DTSTAMP:20260420T101906Z
UID:9d69cc83-c1a8-4885-a949-7b54df39fba9
DTSTART;VALUE=DATE:20210915
DESCRIPTION:Property ID# 515477\, Locatoin: EVES Auction Room: 247 Cameron 
 Road\, Tauranga (unless sold prior)	\, Time: 4:00PM
SUMMARY:Auction for 
END:VEVENT
END:VCALENDAR
