BEGIN:VCALENDAR
VERSION:2.0
PRODID:icalendar-ruby
CALSCALE:GREGORIAN
BEGIN:VEVENT
DTSTAMP:20260421T124825Z
UID:f4ca48b2-d8f0-4242-9a5f-471138571430
DTSTART;VALUE=DATE:20210902
DESCRIPTION:Property ID# 515617\, Locatoin: Harcourts Auction Rooms\, 1 Thi
 rd Avenue\, Tauranga\, Unless Sold Prior\, Time: 11:30AM
SUMMARY:Auction for 
END:VEVENT
END:VCALENDAR
