BEGIN:VCALENDAR
VERSION:2.0
PRODID:icalendar-ruby
CALSCALE:GREGORIAN
BEGIN:VEVENT
DTSTAMP:20260425T113325Z
UID:f77cb62f-184f-4043-8314-93405fc89d3a
DTSTART;VALUE=DATE:20211014
DESCRIPTION:Property ID# 517744\, Locatoin: Harcourts Auction Rooms\, 1 Thi
 rd Avenue\, Tauranga\, Unless Sold Prior\, Time: 12:30PM
SUMMARY:Auction for 
END:VEVENT
END:VCALENDAR
