BEGIN:VCALENDAR
VERSION:2.0
PRODID:icalendar-ruby
CALSCALE:GREGORIAN
BEGIN:VEVENT
DTSTAMP:20260420T114213Z
UID:9dcd3a51-752c-488f-9283-ef664aa6f225
DTSTART;VALUE=DATE:20211110
DESCRIPTION:Property ID# 519481\, Locatoin: 247 Cameron Road\, Tauranga (un
 less sold prior)\, Time: 1:00PM
SUMMARY:Auction for 
END:VEVENT
END:VCALENDAR
