BEGIN:VCALENDAR
VERSION:2.0
PRODID:icalendar-ruby
CALSCALE:GREGORIAN
BEGIN:VEVENT
DTSTAMP:20260420T084700Z
UID:f1040ebb-bda5-4bc5-89c8-5e675a1e097f
DTSTART;VALUE=DATE:20211124
DESCRIPTION:Property ID# 520070\, Locatoin: 247 Cameron Road\, Tauranga (un
 less sold prior)\, Time: 1:00PM
SUMMARY:Auction for 
END:VEVENT
END:VCALENDAR
