BEGIN:VCALENDAR
VERSION:2.0
PRODID:icalendar-ruby
CALSCALE:GREGORIAN
BEGIN:VEVENT
DTSTAMP:20260422T100309Z
UID:fe940ac4-cdc2-4cb0-af12-6c92e62da195
DTSTART;VALUE=DATE:20211118
DESCRIPTION:Property ID# 520440\, Locatoin: In rooms\, Time: 1:00PM
SUMMARY:Auction for 
END:VEVENT
END:VCALENDAR
