BEGIN:VCALENDAR
VERSION:2.0
PRODID:icalendar-ruby
CALSCALE:GREGORIAN
BEGIN:VEVENT
DTSTAMP:20260425T185103Z
UID:b4ab3b63-be80-405d-943f-28f50ab98e89
DTSTART;VALUE=DATE:20220413
DESCRIPTION:Property ID# 530808\, Time: 12:00PM
SUMMARY:Auction for 
END:VEVENT
END:VCALENDAR
