BEGIN:VCALENDAR
VERSION:2.0
PRODID:icalendar-ruby
CALSCALE:GREGORIAN
BEGIN:VEVENT
DTSTAMP:20260421T130619Z
UID:b223759a-dbe6-4d48-a379-8be065ed55ec
DTSTART;VALUE=DATE:20220915
DESCRIPTION:Property ID# 542875\, Locatoin: Harcourt Auction Room\, 1 Third
  Avenue\, Tauranga\, Time: 11:00AM
SUMMARY:Auction for 
END:VEVENT
END:VCALENDAR
