BEGIN:VCALENDAR
VERSION:2.0
PRODID:icalendar-ruby
CALSCALE:GREGORIAN
BEGIN:VEVENT
DTSTAMP:20260425T185206Z
UID:82b4e573-0a65-42c8-8eee-5e650ecc9e9f
DTSTART;VALUE=DATE:20221123
DESCRIPTION:Property ID# 545587\, Time: 12:00PM
SUMMARY:Auction for 
END:VEVENT
END:VCALENDAR
