BEGIN:VCALENDAR
VERSION:2.0
PRODID:icalendar-ruby
CALSCALE:GREGORIAN
BEGIN:VEVENT
DTSTAMP:20260425T184121Z
UID:498f03cb-5f89-44ef-a451-5115c873d084
DTSTART;VALUE=DATE:20221201
DESCRIPTION:Property ID# 545937\, Time: 12:00PM
SUMMARY:Auction for 
END:VEVENT
END:VCALENDAR
