BEGIN:VCALENDAR
VERSION:2.0
PRODID:icalendar-ruby
CALSCALE:GREGORIAN
BEGIN:VEVENT
DTSTAMP:20260421T194604Z
UID:6e2935e1-4900-4877-a400-09d645b858c3
DTSTART;VALUE=DATE:20230525
DESCRIPTION:Property ID# 548589\, Locatoin: 1280 Pukuatua Street\, Rotorua\
 , Time: 4:00PM
SUMMARY:Auction for 
END:VEVENT
END:VCALENDAR
