BEGIN:VCALENDAR
VERSION:2.0
PRODID:icalendar-ruby
CALSCALE:GREGORIAN
BEGIN:VEVENT
DTSTAMP:20260421T192321Z
UID:fd3972e5-b5ac-4309-85f4-b69ce2934f5b
DTSTART;VALUE=DATE:20230511
DESCRIPTION:Property ID# 552876\, Locatoin: 1280 Pukuatua Street\, Rotorua\
 , Time: 4:00PM
SUMMARY:Auction for 
END:VEVENT
END:VCALENDAR
