BEGIN:VCALENDAR
VERSION:2.0
PRODID:icalendar-ruby
CALSCALE:GREGORIAN
BEGIN:VEVENT
DTSTAMP:20260425T145424Z
UID:023a74b6-6caa-48d4-a522-03c3e42a3010
DTSTART;VALUE=DATE:20230824
DESCRIPTION:Property ID# 560248\, Locatoin: Harcourts Auction Rooms\, 1 Thi
 rd Avenue\, Tauranga (Unless Sold Prior)\, Time: 11:00AM
SUMMARY:Auction for 
END:VEVENT
END:VCALENDAR
