BEGIN:VCALENDAR
VERSION:2.0
PRODID:icalendar-ruby
CALSCALE:GREGORIAN
BEGIN:VEVENT
DTSTAMP:20260425T184441Z
UID:00fd351b-32b3-48bf-bd53-d4f377ae8c2e
DTSTART;VALUE=DATE:20231129
DESCRIPTION:Property ID# 564809\, Time: 12:00PM
SUMMARY:Auction for 
END:VEVENT
END:VCALENDAR
