BEGIN:VCALENDAR
VERSION:2.0
PRODID:icalendar-ruby
CALSCALE:GREGORIAN
BEGIN:VEVENT
DTSTAMP:20260425T112613Z
UID:6f051327-3816-4b47-89a2-b2238bb8b9ad
DTSTART;VALUE=DATE:20240221
DESCRIPTION:Property ID# 569661\, Locatoin: Harcourts Auction Rooms\, 1 Thi
 rd Avenue\, Tauranga\, Unless Sold Prior\, Time: 12:00PM
SUMMARY:Auction for 
END:VEVENT
END:VCALENDAR
