BEGIN:VCALENDAR
VERSION:2.0
PRODID:icalendar-ruby
CALSCALE:GREGORIAN
BEGIN:VEVENT
DTSTAMP:20260421T171356Z
UID:db5d49d9-1dd7-4f7a-85d0-07b6733440a0
DTSTART;VALUE=DATE:20240604
DESCRIPTION:Property ID# 574912\, Locatoin: Baycourt Community & Arts Centr
 e\, 38 Durham Street\, Tauranga\, Time: 2:00PM
SUMMARY:Auction for 
END:VEVENT
END:VCALENDAR
