BEGIN:VCALENDAR
VERSION:2.0
PRODID:icalendar-ruby
CALSCALE:GREGORIAN
BEGIN:VEVENT
DTSTAMP:20260423T110903Z
UID:4a92b42a-9cbf-40be-80fc-cb7f9efd4bf3
DTSTART;VALUE=DATE:20240717
DESCRIPTION:Property ID# 577336\, Locatoin: Vosper Realty Ltd\, 182 Devonpo
 rt Rd\, Tauranga\, Time: 4:00PM
SUMMARY:Auction for 
END:VEVENT
END:VCALENDAR
