BEGIN:VCALENDAR
VERSION:2.0
PRODID:icalendar-ruby
CALSCALE:GREGORIAN
BEGIN:VEVENT
DTSTAMP:20260424T102400Z
UID:36a45281-e97f-4efc-b9a7-766399866c9a
DTSTART;VALUE=DATE:20250424
DESCRIPTION:Property ID# 590945\, Locatoin: Onsite at 14/23 Quay St\, Whaka
 tane - unless sold prior\, Time: 4:00PM
SUMMARY:Auction for 
END:VEVENT
END:VCALENDAR
