BEGIN:VCALENDAR
VERSION:2.0
PRODID:icalendar-ruby
CALSCALE:GREGORIAN
BEGIN:VEVENT
DTSTAMP:20260424T223553Z
UID:d8714804-1e8b-4576-adce-1bd1250c12e6
DTSTART;VALUE=DATE:20250702
DESCRIPTION:Property ID# 593621\, Locatoin: Harcourts Auction Room\, 1 Thir
 d Ave\, Tauranga (unless sold prior)\, Time: 11:30AM
SUMMARY:Auction for 
END:VEVENT
END:VCALENDAR
