BEGIN:VCALENDAR
VERSION:2.0
PRODID:icalendar-ruby
CALSCALE:GREGORIAN
BEGIN:VEVENT
DTSTAMP:20260422T175415Z
UID:dc04e02b-a9a6-4e70-a223-391594b6f95d
DTSTART;VALUE=DATE:20250709
DESCRIPTION:Property ID# 594109\, Time: 1:00PM
SUMMARY:Auction for 
END:VEVENT
END:VCALENDAR
