BEGIN:VCALENDAR
VERSION:2.0
PRODID:icalendar-ruby
CALSCALE:GREGORIAN
BEGIN:VEVENT
DTSTAMP:20260425T145036Z
UID:9d6b65d4-43be-48af-a282-25a0c329852f
DTSTART;VALUE=DATE:20250820
DESCRIPTION:Property ID# 595363\, Locatoin: Harcourts Auction Rooms\, 1 Thi
 rd Avenue\, Tauranga (Unless Sold Prior)\, Time: 12:00PM
SUMMARY:Auction for 
END:VEVENT
END:VCALENDAR
