BEGIN:VCALENDAR
VERSION:2.0
PRODID:icalendar-ruby
CALSCALE:GREGORIAN
BEGIN:VEVENT
DTSTAMP:20260422T165106Z
UID:96771eb3-e7db-4bf3-a9d6-d43be96fae25
DTSTART;VALUE=DATE:20250814
DESCRIPTION:Property ID# 595552\, Time: 12:00PM
SUMMARY:Auction for 
END:VEVENT
END:VCALENDAR
