BEGIN:VCALENDAR
VERSION:2.0
PRODID:icalendar-ruby
CALSCALE:GREGORIAN
BEGIN:VEVENT
DTSTAMP:20260425T112309Z
UID:19913fdd-4c1a-432d-8ba1-ecc9c1af77a5
DTSTART;VALUE=DATE:20250911
DESCRIPTION:Property ID# 595620\, Time: 2:00PM
SUMMARY:Auction for 
END:VEVENT
END:VCALENDAR
