BEGIN:VCALENDAR
VERSION:2.0
PRODID:icalendar-ruby
CALSCALE:GREGORIAN
BEGIN:VEVENT
DTSTAMP:20260425T144902Z
UID:38db7faa-25a2-4230-9c2d-1768f70bf5ff
DTSTART;VALUE=DATE:20250904
DESCRIPTION:Property ID# 596130\, Locatoin: Eves Auction Rooms\, 247 Camero
 n Road\, Tauranga\, Time: 1:00PM
SUMMARY:Auction for 
END:VEVENT
END:VCALENDAR
