BEGIN:VCALENDAR
VERSION:2.0
PRODID:icalendar-ruby
CALSCALE:GREGORIAN
BEGIN:VEVENT
DTSTAMP:20260421T134729Z
UID:ebe38ee6-d348-410b-acfa-94b00d06605b
DTSTART;VALUE=DATE:20251016
DESCRIPTION:Property ID# 598338\, Time: 12:00PM
SUMMARY:Auction for 
END:VEVENT
END:VCALENDAR
