BEGIN:VCALENDAR
VERSION:2.0
PRODID:icalendar-ruby
CALSCALE:GREGORIAN
BEGIN:VEVENT
DTSTAMP:20260422T164800Z
UID:068708f2-e0f8-4ef7-94f7-7ee36688d958
DTSTART;VALUE=DATE:20251105
DESCRIPTION:Property ID# 599098\, Time: 12:00PM
SUMMARY:Auction for 
END:VEVENT
END:VCALENDAR
