BEGIN:VCALENDAR
VERSION:2.0
PRODID:icalendar-ruby
CALSCALE:GREGORIAN
BEGIN:VEVENT
DTSTAMP:20260425T144456Z
UID:d38a60eb-84eb-4063-96c1-a473a7c0e26b
DTSTART;VALUE=DATE:20251203
DESCRIPTION:Property ID# 600696\, Locatoin: Harcourts Auction Rooms\, 1 Thi
 rd Avenue\, Tauranga (Unless Sold Prior)\, Time: 11:30AM
SUMMARY:Auction for 
END:VEVENT
END:VCALENDAR
