BEGIN:VCALENDAR
VERSION:2.0
PRODID:icalendar-ruby
CALSCALE:GREGORIAN
BEGIN:VEVENT
DTSTAMP:20260421T193640Z
UID:38a4b26d-75ce-41bd-9b0b-6700b756929a
DTSTART;VALUE=DATE:20251216
DESCRIPTION:Property ID# 601260\, Locatoin: Tender closes 16 December\, 202
 5 at 4:00pm at Tremains\, Rotorua (no sale prior)\, Time: 12:00PM
SUMMARY:Auction for 
END:VEVENT
END:VCALENDAR
