BEGIN:VCALENDAR
VERSION:2.0
PRODID:icalendar-ruby
CALSCALE:GREGORIAN
BEGIN:VEVENT
DTSTAMP:20260425T144542Z
UID:9f350435-14ea-4489-a007-8615fee1cf52
DTSTART;VALUE=DATE:20260312
DESCRIPTION:Property ID# 604569\, Locatoin: Eves Auction Rooms\, 247 Camero
 n Road\, Tauranga\, Time: 1:00PM
SUMMARY:Auction for 
END:VEVENT
END:VCALENDAR
