BEGIN:VCALENDAR
VERSION:2.0
PRODID:icalendar-ruby
CALSCALE:GREGORIAN
BEGIN:VEVENT
DTSTAMP:20260425T145048Z
UID:7b12dec1-72df-4f6d-a381-37f3158b2684
DTSTART;VALUE=DATE:20260401
DESCRIPTION:Property ID# 605313\, Locatoin: Harcourts Auction Room\, 1 Thir
 d Avenue\, Tauranga\, Time: 11:30AM
SUMMARY:Auction for 2/146 Spring Street
END:VEVENT
END:VCALENDAR
