BEGIN:VCALENDAR
VERSION:2.0
PRODID:icalendar-ruby
CALSCALE:GREGORIAN
BEGIN:VEVENT
DTSTAMP:20260425T144901Z
UID:f44dabd7-baac-4050-ad6c-0882aab2dc65
DTSTART;VALUE=DATE:20260527
DESCRIPTION:Property ID# 605989\, Locatoin: Harcourts Auction Rooms\, 1 Thi
 rd Avenue\, Tauranga\, Time: 11:30AM
SUMMARY:Auction for 9 Ruahine Street
END:VEVENT
END:VCALENDAR
