BEGIN:VCALENDAR
VERSION:2.0
PRODID:icalendar-ruby
CALSCALE:GREGORIAN
BEGIN:VEVENT
DTSTAMP:20260421T134605Z
UID:07a342ad-d188-4092-9046-88121df3e29d
DTSTART;VALUE=DATE:20260514
DESCRIPTION:Property ID# 606531\, Locatoin: Auction Rooms\, 247 Cameron Roa
 d\, Tauranga. Unless sold prior\, Time: 1:00PM
SUMMARY:Auction for 28B Western Road
END:VEVENT
END:VCALENDAR
