BEGIN:VCALENDAR
VERSION:2.0
PRODID:icalendar-ruby
CALSCALE:GREGORIAN
BEGIN:VEVENT
DTSTAMP:20260422T172406Z
UID:6338d665-6505-403a-a4f7-26503c48eeec
DTSTART;VALUE=DATE:20260429
DESCRIPTION:Property ID# 606550\, Time: 1:00PM
SUMMARY:Auction for 97B Gloucester Road
END:VEVENT
END:VCALENDAR
