BEGIN:VCALENDAR
VERSION:2.0
PRODID:icalendar-ruby
CALSCALE:GREGORIAN
BEGIN:VEVENT
DTSTAMP:20260422T084501Z
UID:b9d411e6-6400-4cb1-a440-f0203e8d15ac
DTSTART;VALUE=DATE:20260507
DESCRIPTION:Property ID# 606688\, Time: 4:00PM
SUMMARY:Auction for 15 Mahanga Road
END:VEVENT
END:VCALENDAR
