BEGIN:VCALENDAR
VERSION:2.0
PRODID:icalendar-ruby
CALSCALE:GREGORIAN
BEGIN:VEVENT
DTSTAMP:20260423T093811Z
UID:b7af9181-3cb3-4a3b-8398-71349e6c841a
DTSTART;VALUE=DATE:20260513
DESCRIPTION:Property ID# 606748\, Locatoin: Ray White Greerton (unless sold
  prior)\, Time: 1:00PM
SUMMARY:Auction for 800 Pyes Pa Road
END:VEVENT
END:VCALENDAR
