BEGIN:VCALENDAR
VERSION:2.0
PRODID:icalendar-ruby
CALSCALE:GREGORIAN
BEGIN:VEVENT
DTSTAMP:20260423T142956Z
UID:4ab510d6-8301-445f-bfd8-03b8420d6a68
DTSTART;VALUE=DATE:20260521
DESCRIPTION:Property ID# 606924\, Time: 4:00PM
SUMMARY:Auction for 1A Pedlar Street
END:VEVENT
END:VCALENDAR
