BEGIN:VCALENDAR
VERSION:2.0
PRODID:icalendar-ruby
CALSCALE:GREGORIAN
BEGIN:VEVENT
DTSTAMP:20260421T135343Z
UID:331b655d-461c-4b4f-8ed5-f81a2991ea54
DTSTART;VALUE=DATE:20260604
DESCRIPTION:Property ID# 607038\, Time: 2:00PM
SUMMARY:Auction for 7F Owens Place
END:VEVENT
END:VCALENDAR
