BEGIN:VCALENDAR
VERSION:2.0
PRODID:icalendar-ruby
CALSCALE:GREGORIAN
BEGIN:VEVENT
DTSTAMP:20260425T112208Z
UID:8a2be5b4-b35a-4848-878b-3826a67113f8
DTSTART;VALUE=DATE:20260513
DESCRIPTION:Property ID# 607138\, Time: 4:00PM
SUMMARY:Auction for 187 Matapihi Road
END:VEVENT
END:VCALENDAR
