BEGIN:VCALENDAR
VERSION:2.0
PRODID:icalendar-ruby
CALSCALE:GREGORIAN
BEGIN:VEVENT
DTSTAMP:20260425T145048Z
UID:5f418ba1-53a5-4cec-baa8-b4df0cb45e93
DTSTART;VALUE=DATE:20260514
DESCRIPTION:Property ID# 607297\, Locatoin: Eves Auction Rooms\, 247 Camero
 n Road\, Tauranga\, Time: 1:00PM
SUMMARY:Auction for 99 Beach Road
END:VEVENT
END:VCALENDAR
