BEGIN:VCALENDAR
VERSION:2.0
PRODID:icalendar-ruby
CALSCALE:GREGORIAN
BEGIN:VEVENT
DTSTAMP:20260423T095619Z
UID:6c3c2068-0cc8-4d41-b099-c31c95453b35
DTSTART;TZID=Pacific/Auckland:20260426T120000
DTEND;TZID=Pacific/Auckland:20260426T123000
DESCRIPTION:Property ID# 603017
SUMMARY:Openhome for 17 River Road
END:VEVENT
END:VCALENDAR
