BEGIN:VCALENDAR
VERSION:2.0
PRODID:icalendar-ruby
CALSCALE:GREGORIAN
BEGIN:VEVENT
DTSTAMP:20260424T190615Z
UID:afd537b8-c73b-4537-be6a-7c380f23ca0b
DTSTART;TZID=Pacific/Auckland:20260426T130000
DTEND;TZID=Pacific/Auckland:20260426T133000
DESCRIPTION:Property ID# 605365
SUMMARY:Openhome for 2 Furn Park Lane
END:VEVENT
END:VCALENDAR
