BEGIN:VCALENDAR
VERSION:2.0
PRODID:icalendar-ruby
CALSCALE:GREGORIAN
BEGIN:VEVENT
DTSTAMP:20260425T145423Z
UID:7cada904-993c-4511-bf41-4e921655574a
DTSTART;TZID=Pacific/Auckland:20260426T124500
DTEND;TZID=Pacific/Auckland:20260426T131500
DESCRIPTION:Property ID# 604625
SUMMARY:Openhome for 19 Phoenix Heights
END:VEVENT
END:VCALENDAR
