BEGIN:VCALENDAR
VERSION:2.0
PRODID:icalendar-ruby
CALSCALE:GREGORIAN
BEGIN:VEVENT
DTSTAMP:20260425T145345Z
UID:fa10ee02-f129-4af9-b61e-c796161ef2e7
DTSTART;TZID=Pacific/Auckland:20260426T141500
DTEND;TZID=Pacific/Auckland:20260426T144500
DESCRIPTION:Property ID# 603762
SUMMARY:Openhome for 47 Mauritius Key
END:VEVENT
END:VCALENDAR
